BEGIN:VCALENDAR
VERSION:2.0
PRODID:-//eventon.com NONSGML v1.0//EN
CALSCALE:GREGORIAN
METHOD:PUBLISH
BEGIN:VEVENT
UID:69eae59a30194
DTSTAMP:20260424T033802Z
DTSTART:20260524T010000Z
DTEND:20260524T030000Z
LOCATION:
SUMMARY:Mystery Caberet
DESCRIPTION:Harwood Museum of Art invites you to join us for Mystery Cabare
 t\,  an all-ages interactive theater event written and directed by local pl
 aywright\,  John Biscello! Can you solve the mystery of who stole an import
 ant work of art from Pursuit of Happiness: GI Bill in Taos? Featuring mockt
 ails by Rolling[..]\nhttps://harwoodmuseum.org/events/mystery-caberet-2/
URL:https://harwoodmuseum.org/events/mystery-caberet-2/
END:VEVENT
END:VCALENDAR