BEGIN:VCALENDAR
VERSION:2.0
PRODID:-//eventon.com NONSGML v1.0//EN
CALSCALE:GREGORIAN
METHOD:PUBLISH
BEGIN:VEVENT
UID:69ea09539a97e
DTSTAMP:20260423T115811Z
DTSTART:20260501T220000Z
DTEND:20260503T230000Z
LOCATION:
SUMMARY:2026 Harwood Auction Preview
DESCRIPTION:Embrace your love of art and culture while making a difference.
  Each winning bid helps support Harwood Museum of Art\,  ensuring it remain
 s a vital hub in Taos\,  New Mexico.This is an ONLINE auction with a specia
 l in person preview at the Harwood kicking off during First Friday\,  May 1
 [..]\nhttps://harwoodmuseum.org/events/2026-harwood-auction-preview/
URL:https://harwoodmuseum.org/events/2026-harwood-auction-preview/
END:VEVENT
END:VCALENDAR