BEGIN:VCALENDAR
VERSION:2.0
PRODID:-//eventon.com NONSGML v1.0//EN
CALSCALE:GREGORIAN
METHOD:PUBLISH
BEGIN:VEVENT
UID:69eaef060682e
DTSTAMP:20260424T041814Z
DTSTART:20260128T183000Z
DTEND:20260128T203000Z
LOCATION:
SUMMARY:"Journey Down the Gila"
DESCRIPTION:** SOLD OUT **       Journey Down the Gila is the first ful
 l-length film that visually captures the beauty of the Gila River through t
 he 37-mile river run through the Gila Wilderness. The documentary\,  direct
 ed by Albuquerque film maker\,  David Garcia\,  tells the story of three lo
 cal\,  New Mexico[..]\nhttps://harwoodmuseum.org/events/journey-down-the-gi
 la/
URL:https://harwoodmuseum.org/events/journey-down-the-gila/
END:VEVENT
END:VCALENDAR