BEGIN:VCALENDAR
VERSION:2.0
PRODID:-//eventon.com NONSGML v1.0//EN
CALSCALE:GREGORIAN
METHOD:PUBLISH
BEGIN:VEVENT
UID:69e9724163ce4
DTSTAMP:20260423T011337Z
DTSTART:20250316T193000Z
DTEND:20250316T210000Z
LOCATION:Fern Hogue Mitchell Education Center\,  Harwood Museum 238 Ledoux Street
SUMMARY:Family Art Lab with Twirl
DESCRIPTION:Twirl is bringing SPECTACOLOR to the Harwood! Discover the art 
 of Charles Ross: Mansions of the Zodiac\,  while exploring why and how we s
 ee colors and how to make and change them. This program is open to families
  or small groups with children and home school groups. Designed for ages[..
 ]\nhttps://harwoodmuseum.org/events/family-art-lab-with-twirl-2/
URL:https://harwoodmuseum.org/events/family-art-lab-with-twirl-2/
END:VEVENT
END:VCALENDAR