BEGIN:VCALENDAR
VERSION:2.0
PRODID:-//eventon.com NONSGML v1.0//EN
CALSCALE:GREGORIAN
METHOD:PUBLISH
BEGIN:VEVENT
UID:69e83b6ea84aa
DTSTAMP:20260422T030726Z
DTSTART:20230901T220000Z
DTEND:20230902T010000Z
LOCATION:
SUMMARY:First Friday
DESCRIPTION:First Fridays at Harwood Museum September 1st\,  2023 4pm-7pm F
 ree Our September First Friday is Sponsored by Taos Fall Arts Festival. We 
 will be honoring this year’s TFAF Charles R Strong Lifetime Achievement A
 ward recipient\,  Renate Collins Hume\,  who will be leading Mandala making
  in the Harwood’s backyard. Guests will[..]\nhttps://harwoodmuseum.org/ev
 ents/first-friday-3/
URL:https://harwoodmuseum.org/events/first-friday-3/
END:VEVENT
END:VCALENDAR