BEGIN:VCALENDAR
VERSION:2.0
PRODID:-//eventon.com NONSGML v1.0//EN
CALSCALE:GREGORIAN
METHOD:PUBLISH
BEGIN:VEVENT
UID:69e9c10109ee1
DTSTAMP:20260423T064937Z
DTSTART:20220827T223000Z
DTEND:20220828T023000Z
LOCATION:Harwood Museum of Art 238 Ledoux Street
SUMMARY:Plein Air Painting
DESCRIPTION:Follow in the footsteps of the great landscape painters showcas
 ed in New Beginnings: An American Story of Romantics and Modernists in the 
 West. This four-hour workshop includes a discussion of the work that inspir
 ed the location\,  an overview of techniques and painting strategy\,  and i
 ndividualized instruction based on your goals[..]\nhttps://harwoodmuseum.or
 g/events/guided-plein-air-painting-with-adventure-painting-august/
URL:https://harwoodmuseum.org/events/guided-plein-air-painting-with-adventure-painting-august/
END:VEVENT
END:VCALENDAR