BEGIN:VCALENDAR
VERSION:2.0
PRODID:-//eventon.com NONSGML v1.0//EN
CALSCALE:GREGORIAN
METHOD:PUBLISH
BEGIN:VEVENT
UID:69e9ac8a39033
DTSTAMP:20260423T052218Z
DTSTART:20220625T133000Z
DTEND:20220625T173000Z
LOCATION:Harwood Museum of Art 238 Ledoux Street
SUMMARY:Guided Plein Air Painting with Adventure Painting
DESCRIPTION:Join the founders of Adventure Painting\,  a plein air artist r
 esidency\,  to follow in the footsteps of the great landscape painters show
 cased in New Beginnings: An American Story of Romantics and Modernists in t
 he West. Students will paint at a location based on a selected work from th
 e exhibition. This[..]\nhttps://harwoodmuseum.org/events/guided-plein-air-p
 ainting-with-adventure-painting/
URL:https://harwoodmuseum.org/events/guided-plein-air-painting-with-adventure-painting/
END:VEVENT
END:VCALENDAR